BEGIN:VCALENDAR
VERSION:2.0
PRODID:-//Tukios.com/
BEGIN:VEVENT
UID:58c7a143-ca7d-4b28-a158-4eef50930239@www.rlsandersfuneralhome.org
DTSTAMP:20260421T210520Z
DTSTART:20260424T220000Z
DTEND:20260424T230000Z
SUMMARY:Memorial Service
DESCRIPTION:
URL:https://www.rlsandersfuneralhome.org/obituaries/william-laws
LOCATION: 806 E Market St  Smithfield NC 27577
GEO:35.5081042;-78.3391078
END:VEVENT
END:VCALENDAR